BEGIN:VCALENDAR
VERSION:2.0
PRODID:-//Squarespace Inc/Squarespace 6//v6//EN
BEGIN:VEVENT
UID:569d65fea976af8774f4cf5c@squarespace.com
DTSTAMP:20160118T224935Z
DTSTART:20161029T123000Z
DTEND:20161031T213000Z
SUMMARY:WALT Congress
GEO:-23.521313;-46.185853
LOCATION:UMC Universidade\, mogi das Cruzes\, State of Sao Paulo\, Brazil
END:VEVENT
END:VCALENDAR
