BEGIN:VCALENDAR
VERSION:2.0
PRODID:-//Squarespace Inc/Squarespace 6//v6//EN
BEGIN:VEVENT
UID:569d53a4dc5cb429858b4c36@squarespace.com
DTSTAMP:20160118T225134Z
DTSTART:20160213T133000Z
DTEND:20160215T003000Z
SUMMARY:SPIE Photonics West 
GEO:37.774929;-122.419416
LOCATION:Moscone Center\, San Francisco\, CA\, USA
END:VEVENT
END:VCALENDAR
